BEGIN:VCALENDAR
VERSION:2.0
PRODID:spatie/icalendar-generator
BEGIN:VTIMEZONE
TZID:Europe/Helsinki
BEGIN:DAYLIGHT
DTSTART:19700329T030000
TZOFFSETFROM:+0200
TZOFFSETTO:+0300
TZNAME:EEST
RRULE:FREQ=YEARLY;BYMONTH=3;BYDAY=-1SU
END:DAYLIGHT
BEGIN:STANDARD
DTSTART:19701025T040000
TZOFFSETFROM:+0300
TZOFFSETTO:+0200
TZNAME:EET
RRULE:FREQ=YEARLY;BYMONTH=10;BYDAY=-1SU
END:STANDARD
END:VTIMEZONE
BEGIN:VEVENT
UID:69ea2fc8a432f
DTSTAMP:20260423T144216Z
DTSTART;TZID=Europe/Helsinki:20220421T141500
DTEND;TZID=Europe/Helsinki:20220421T153000
SUMMARY:Opiskelijoiden yrittäjyysiltapäivä
URL:https://yzone.seamk.fi/event/opiskelijoiden-yrittajyysiltapaiva-8/
END:VEVENT
END:VCALENDAR